BEGIN:VCALENDAR
VERSION:2.0
PRODID:-//eventon.com NONSGML v1.0//EN
CALSCALE:GREGORIAN
METHOD:PUBLISH
BEGIN:VEVENT
UID:69e73305520d4
DTSTAMP:20260421T081917Z
DTSTART:20241229T163000Z
DTEND:20241229T225900Z
LOCATION:Catedral de Albacete
SUMMARY:Apertura del Año Jubilar 2025 en la Diócesis
DESCRIPTION:El 24 de diciembre\,  el Papa Francisco abrió el Jubileo unive
 rsal en la Plaza de San Pedro en Roma (Más información: https://www.iubil
 aeum2025.va/es.html) El Rito de Apertura del Año Jubilar 2025\,  ‘Peregr
 inos de la Esperanza\, ’ en la Diócesis de Albacete\,  se celebrará el 
 próximo 29 de diciembre\,  fiesta de la Sagrada[..]\nhttps://virgendebelen
 .es/eventos/apertura-del-ano-jubilar-2025/
URL:https://virgendebelen.es/eventos/apertura-del-ano-jubilar-2025/
END:VEVENT
END:VCALENDAR